BEGIN:VCALENDAR
VERSION:2.0
PRODID:-//NIHR SRMRC - Surgical Reconstruction and Microbiology Research Centre - ECPv6.2.2//NONSGML v1.0//EN
CALSCALE:GREGORIAN
METHOD:PUBLISH
X-ORIGINAL-URL:https://www.srmrc.nihr.ac.uk
X-WR-CALDESC:Events for NIHR SRMRC - Surgical Reconstruction and Microbiology Research Centre
REFRESH-INTERVAL;VALUE=DURATION:PT1H
X-Robots-Tag:noindex
X-PUBLISHED-TTL:PT1H
BEGIN:VTIMEZONE
TZID:Europe/London
BEGIN:DAYLIGHT
TZOFFSETFROM:+0000
TZOFFSETTO:+0100
TZNAME:BST
DTSTART:20200329T010000
END:DAYLIGHT
BEGIN:STANDARD
TZOFFSETFROM:+0100
TZOFFSETTO:+0000
TZNAME:GMT
DTSTART:20201025T010000
END:STANDARD
END:VTIMEZONE
BEGIN:VEVENT
DTSTART;TZID=Europe/London:20201119T080000
DTEND;TZID=Europe/London:20201119T170000
DTSTAMP:20260425T172559
CREATED:20200122T133000Z
LAST-MODIFIED:20200122T133000Z
UID:9998-1605772800-1605805200@www.srmrc.nihr.ac.uk
SUMMARY:PPI Group Meeting
DESCRIPTION:Meetings can fill up quickly during busy periods\, so please book your place in advance if you are looking for PPI on a grant application and you know the submission deadline.
URL:https://www.srmrc.nihr.ac.uk/event/ppi-group-meeting-5/
END:VEVENT
END:VCALENDAR